BEGIN:VCALENDAR
PRODID:-//PUBBLE//agenda//NL
VERSION:2.0
METHOD:PUBLISH
BEGIN:VEVENT
DTSTART:20250410T070045Z
DTEND:20250410T080045Z
DTSTAMP:20260425T151442Z
UID:0bbc524d-375e-43bd-953b-6e456aec0cdb
CREATED:20260425T151442Z
NAME:Extra activiteit Tulpenroute Flevoland zeewolde-actueel.nl
X-WR-CALNAME:Extra activiteit Tulpenroute Flevoland
X-ALT-DESC;FMTTYPE=text/html:<a href='/agenda/2025/4/19/extra-activiteit-tulpenroute-flevoland-331706'>/agenda/2025/4/19/extra-activiteit-tulpenroute-flevoland-331706</a> || <p>In winkelcentrum Suydersee is een streek- en plantjesmarkt, bezoekers kunnen deelnemen aan de Tulpenplukroute en sportieve evenementen bezoeken zoals de wielerkoers en de dikke banden race op het Meerpaalplein.</p><p>Meer informatie over aanvullende activiteiten is te vinden op <a href="http://www.tulpenrouteflevoland.nl" target="_blank">www.tulpenrouteflevoland.nl</a>.</p>
DESCRIPTION:<a href='/agenda/2025/4/19/extra-activiteit-tulpenroute-flevoland-331706'>/agenda/2025/4/19/extra-activiteit-tulpenroute-flevoland-331706</a> || <p>In winkelcentrum Suydersee is een streek- en plantjesmarkt, bezoekers kunnen deelnemen aan de Tulpenplukroute en sportieve evenementen bezoeken zoals de wielerkoers en de dikke banden race op het Meerpaalplein.</p><p>Meer informatie over aanvullende activiteiten is te vinden op <a href="http://www.tulpenrouteflevoland.nl" target="_blank">www.tulpenrouteflevoland.nl</a>.</p>
LAST-MODIFIED:20260425T151442Z
LOCATION: Centrum |   Dronten
SEQUENCE:0
STATUS:CONFIRMED
SUMMARY:Extra activiteit Tulpenroute Flevoland
TRANSP:OPAQUE
END:VEVENT
END:VCALENDAR
