BEGIN:VCALENDAR
PRODID:-//PUBBLE//agenda//NL
VERSION:2.0
METHOD:PUBLISH
BEGIN:VEVENT
DTSTART:20260113T080000Z
DTEND:20270102T213200Z
DTSTAMP:20260425T032704Z
UID:d676c0a9-4357-441f-ac81-2b565b175e33
CREATED:20260425T032704Z
NAME:Bijbelbespreking Het Dienaarshuis zeewolde-actueel.nl
X-WR-CALNAME:Bijbelbespreking Het Dienaarshuis
X-ALT-DESC;FMTTYPE=text/html:<a href='/agenda/2026/1/13/bijbelbespreking-het-dienaarshuis-352396'>/agenda/2026/1/13/bijbelbespreking-het-dienaarshuis-352396</a> || <p>Gezellig en ongedwongen praten en leren over de Bijbel, elkaar steunen en bemoedigen en samen bidden. Kom zoals je bent en geniet aansluitend samen met ons van een gratis, huisgemaakte lunch. Voor informatie en het actuele programma: www.dienaarshuis.nl</p>
DESCRIPTION:<a href='/agenda/2026/1/13/bijbelbespreking-het-dienaarshuis-352396'>/agenda/2026/1/13/bijbelbespreking-het-dienaarshuis-352396</a> || <p>Gezellig en ongedwongen praten en leren over de Bijbel, elkaar steunen en bemoedigen en samen bidden. Kom zoals je bent en geniet aansluitend samen met ons van een gratis, huisgemaakte lunch. Voor informatie en het actuele programma: www.dienaarshuis.nl</p>
LAST-MODIFIED:20260425T032704Z
LOCATION: Het Kruispunt |   Zeewolde
SEQUENCE:0
STATUS:CONFIRMED
SUMMARY:Bijbelbespreking Het Dienaarshuis
TRANSP:OPAQUE
END:VEVENT
END:VCALENDAR
