BEGIN:VCALENDAR
PRODID:-//PUBBLE//agenda//NL
VERSION:2.0
METHOD:PUBLISH
BEGIN:VEVENT
DTSTART:20260122T080000Z
DTEND:20260630T144000Z
DTSTAMP:20260425T164122Z
UID:9bceebe4-6c97-41ac-82be-62d3af3cd9b0
CREATED:20260425T164122Z
NAME:Donderdaginloop Toon Hermans Huis Zeewolde zeewolde-actueel.nl
X-WR-CALNAME:Donderdaginloop Toon Hermans Huis Zeewolde
X-ALT-DESC;FMTTYPE=text/html:<a href='/agenda/2026/1/22/donderdaginloop-toon-hermans-huis-zeewolde-352992'>/agenda/2026/1/22/donderdaginloop-toon-hermans-huis-zeewolde-352992</a> || <p>Onze gastvrouwen en -/-heer staan voor je klaar als je behoefte hebt aan een praatje. Misschien heb jij net de diagnose gekregen en staat jouw leven op z’n kop. Of je zit in een behandeltraject en wil je even van je af praten? Zijn de behandelingen afgerond en gaat jouw omgeving ervan uit dat alles nu weer oké is? Bij ons mag je je verhaal kwijt.</p><p>Ben je de naaste van iemand met kanker en maak je je zorgen? Ook jij bent van harte welkom in het Toon Hermanshuis voor een praatje. Elke donderdag van 10:00 tot 12:00 uur. </p>
DESCRIPTION:<a href='/agenda/2026/1/22/donderdaginloop-toon-hermans-huis-zeewolde-352992'>/agenda/2026/1/22/donderdaginloop-toon-hermans-huis-zeewolde-352992</a> || <p>Onze gastvrouwen en -/-heer staan voor je klaar als je behoefte hebt aan een praatje. Misschien heb jij net de diagnose gekregen en staat jouw leven op z’n kop. Of je zit in een behandeltraject en wil je even van je af praten? Zijn de behandelingen afgerond en gaat jouw omgeving ervan uit dat alles nu weer oké is? Bij ons mag je je verhaal kwijt.</p><p>Ben je de naaste van iemand met kanker en maak je je zorgen? Ook jij bent van harte welkom in het Toon Hermanshuis voor een praatje. Elke donderdag van 10:00 tot 12:00 uur. </p>
LAST-MODIFIED:20260425T164122Z
LOCATION: Toon Hermans Huis | Mazerhard 37 Zeewolde
SEQUENCE:0
STATUS:CONFIRMED
SUMMARY:Donderdaginloop Toon Hermans Huis Zeewolde
TRANSP:OPAQUE
END:VEVENT
END:VCALENDAR
