BEGIN:VCALENDAR
PRODID:-//PUBBLE//agenda//NL
VERSION:2.0
METHOD:PUBLISH
BEGIN:VEVENT
DTSTART:20260424T080000Z
DTEND:20260424T103000Z
DTSTAMP:20260424T091737Z
UID:fce25768-9d7f-4c52-a61c-12bcdd20c754
CREATED:20260424T091737Z
NAME:Wandelen met het Toon Hermans Huis Zeewolde zeewolde-actueel.nl
X-WR-CALNAME:Wandelen met het Toon Hermans Huis Zeewolde
X-ALT-DESC;FMTTYPE=text/html:<a href='/agenda/2026/4/24/wandelen-met-het-toon-hermans-huis-zeewolde-358544'>/agenda/2026/4/24/wandelen-met-het-toon-hermans-huis-zeewolde-358544</a> || <p>Zin in een frisse neus, een ontspannen wandeling én fijne gesprekken? Ga gezellig met ons mee op pad! Samen ontdekken we het mooie Zeewolde tijdens een toegankelijke wandeling van ongeveer 3 km.&nbsp;</p><p>Of je nu een ervaren wandelaar bent of juist niet zo vaak loopt: iedereen is van harte welkom! Het gaat vooral om samen zijn, genieten van de buitenlucht en op een ontspannen manier in beweging komen. Want wandelen is goed voor je lichaam, maar ook voor je humeur.&nbsp;</p><p>Opgeven: info@toonhermanshuiszeewolde.nl</p>
DESCRIPTION:<a href='/agenda/2026/4/24/wandelen-met-het-toon-hermans-huis-zeewolde-358544'>/agenda/2026/4/24/wandelen-met-het-toon-hermans-huis-zeewolde-358544</a> || <p>Zin in een frisse neus, een ontspannen wandeling én fijne gesprekken? Ga gezellig met ons mee op pad! Samen ontdekken we het mooie Zeewolde tijdens een toegankelijke wandeling van ongeveer 3 km.&nbsp;</p><p>Of je nu een ervaren wandelaar bent of juist niet zo vaak loopt: iedereen is van harte welkom! Het gaat vooral om samen zijn, genieten van de buitenlucht en op een ontspannen manier in beweging komen. Want wandelen is goed voor je lichaam, maar ook voor je humeur.&nbsp;</p><p>Opgeven: info@toonhermanshuiszeewolde.nl</p>
LAST-MODIFIED:20260424T091737Z
LOCATION: Toon Hermans Huis | Mazerhard 37 Zeewolde
SEQUENCE:0
STATUS:CONFIRMED
SUMMARY:Wandelen met het Toon Hermans Huis Zeewolde
TRANSP:OPAQUE
END:VEVENT
END:VCALENDAR
