BEGIN:VCALENDAR
PRODID:-//PUBBLE//agenda//NL
VERSION:2.0
METHOD:PUBLISH
BEGIN:VEVENT
DTSTART:20260402T125226Z
DTEND:20260402T135226Z
DTSTAMP:20260424T092356Z
UID:c20e6e5d-d167-450d-b612-16f818227eca
CREATED:20260424T092356Z
NAME:Repair Café zeewolde-actueel.nl
X-WR-CALNAME:Repair Café
X-ALT-DESC;FMTTYPE=text/html:<a href='/agenda/2026/4/24/repair-cafe-359319'>/agenda/2026/4/24/repair-cafe-359319</a> || <p>Repareren van defecte of niet goed functionerende apparatuur en herstellen of vermaken van kledingstukken. Locatie: bovenzaal van De Meermin. Lift aanwezig. Tijd: 09.30 - 12.00 uur. </p>
DESCRIPTION:<a href='/agenda/2026/4/24/repair-cafe-359319'>/agenda/2026/4/24/repair-cafe-359319</a> || <p>Repareren van defecte of niet goed functionerende apparatuur en herstellen of vermaken van kledingstukken. Locatie: bovenzaal van De Meermin. Lift aanwezig. Tijd: 09.30 - 12.00 uur. </p>
LAST-MODIFIED:20260424T092356Z
LOCATION: De Meermin | Kerkplein 20 Zeewolde
SEQUENCE:0
STATUS:CONFIRMED
SUMMARY:Repair Café
TRANSP:OPAQUE
END:VEVENT
END:VCALENDAR
