BEGIN:VCALENDAR
PRODID:-//PUBBLE//agenda//NL
VERSION:2.0
METHOD:PUBLISH
BEGIN:VEVENT
DTSTART:20260409T140914Z
DTEND:20260409T150914Z
DTSTAMP:20260425T033041Z
UID:f3c4641f-ae4a-4ab9-a54c-2045adb277da
CREATED:20260425T033041Z
NAME:Kampioenschap Poëtry Slam zeewolde-actueel.nl
X-WR-CALNAME:Kampioenschap Poëtry Slam
X-ALT-DESC;FMTTYPE=text/html:<a href='/agenda/2026/4/25/kampioenschap-poetry-slam-359869'>/agenda/2026/4/25/kampioenschap-poetry-slam-359869</a> || <p>Deelnemers dragen zelfgeschreven gedichten voor en worden zij beoordeeld op inhoud, voordracht en podiumenergie. </p><p>De top drie van de wedstrijd en de dichter die de aanmoedigingsprijs wint, worden uitgenodigd in het radioprogramma <em>De Dinsdagavondsalon</em> van Radio Lelystad.</p><p>Volgens het Stadsdichtersgilde Lelystad belooft het een sfeervolle en energieke middag te worden voor liefhebbers van poëzie en performance.  </p>
DESCRIPTION:<a href='/agenda/2026/4/25/kampioenschap-poetry-slam-359869'>/agenda/2026/4/25/kampioenschap-poetry-slam-359869</a> || <p>Deelnemers dragen zelfgeschreven gedichten voor en worden zij beoordeeld op inhoud, voordracht en podiumenergie. </p><p>De top drie van de wedstrijd en de dichter die de aanmoedigingsprijs wint, worden uitgenodigd in het radioprogramma <em>De Dinsdagavondsalon</em> van Radio Lelystad.</p><p>Volgens het Stadsdichtersgilde Lelystad belooft het een sfeervolle en energieke middag te worden voor liefhebbers van poëzie en performance.  </p>
LAST-MODIFIED:20260425T033041Z
LOCATION: MFA De Windhoek | Ringdijk 187  Lelystad
SEQUENCE:0
STATUS:CONFIRMED
SUMMARY:Kampioenschap Poëtry Slam
TRANSP:OPAQUE
END:VEVENT
END:VCALENDAR
