BEGIN:VCALENDAR
PRODID:-//PUBBLE//agenda//NL
VERSION:2.0
METHOD:PUBLISH
BEGIN:VEVENT
DTSTART:20260421T080000Z
DTEND:20260421T100000Z
DTSTAMP:20260421T033514Z
UID:bf910bb2-e749-492f-b346-6d8b17113cc2
CREATED:20260421T033514Z
NAME:Discussieochtend Humanistisch Verbond zeewolde-actueel.nl
X-WR-CALNAME:Discussieochtend Humanistisch Verbond
X-ALT-DESC;FMTTYPE=text/html:<a href='/agenda/2026/4/21/discussieochtend-humanistisch-verbond-359944'>/agenda/2026/4/21/discussieochtend-humanistisch-verbond-359944</a> || <p>Maandelijkse discussieochtend van 10 tot 12.00 uur in&nbsp; Le Passage, Agorahof 27-29 te&nbsp; Lelystad.&nbsp; Het thema is&nbsp; “DUURZAAMHEID”.&nbsp;&nbsp;Aan deze ochtend zijn geen kosten verbonden, behalve de koffie/thee die men drinkt.&nbsp; Inlichtingen bij Marianne Dissel&nbsp; telefoon 0321-314362.</p>
DESCRIPTION:<a href='/agenda/2026/4/21/discussieochtend-humanistisch-verbond-359944'>/agenda/2026/4/21/discussieochtend-humanistisch-verbond-359944</a> || <p>Maandelijkse discussieochtend van 10 tot 12.00 uur in&nbsp; Le Passage, Agorahof 27-29 te&nbsp; Lelystad.&nbsp; Het thema is&nbsp; “DUURZAAMHEID”.&nbsp;&nbsp;Aan deze ochtend zijn geen kosten verbonden, behalve de koffie/thee die men drinkt.&nbsp; Inlichtingen bij Marianne Dissel&nbsp; telefoon 0321-314362.</p>
LAST-MODIFIED:20260421T033514Z
LOCATION: Le Passage | Agorahof 27-29 Lelystad
SEQUENCE:0
STATUS:CONFIRMED
SUMMARY:Discussieochtend Humanistisch Verbond
TRANSP:OPAQUE
END:VEVENT
END:VCALENDAR
