BEGIN:VCALENDAR
PRODID:-//PUBBLE//agenda//NL
VERSION:2.0
METHOD:PUBLISH
BEGIN:VEVENT
DTSTART:20260416T075331Z
DTEND:20260416T085331Z
DTSTAMP:20260424T201556Z
UID:a4a90bad-bd20-4812-839d-bca7da570ebe
CREATED:20260424T201556Z
NAME:Koningsdag 2026 zeewolde-actueel.nl
X-WR-CALNAME:Koningsdag 2026
X-ALT-DESC;FMTTYPE=text/html:<a href='/agenda/2026/4/27/koningsdag-2026-360445'>/agenda/2026/4/27/koningsdag-2026-360445</a> || <p>Diverse activiteiten in en om het centrum voor jong en oud.</p><p>Kleedjesmarkt en braderie (07.00 - 16.00 uur). <br />Rommelmarkt en kindervermaak Scouting Jan Wandelaar (09.00 - 16.00 uur)<br />Foodfestival met terras (09.00 - 17.00 uur)<br />FIFA-game-evenement (09.00 - 16.00 uur<br />Open podium (12.00 uur -16.00 uur)<br />Fietsenveiling Scouting Jan Wandelaar (13.00 uur)|<br />Loterij Scouting Jan Wandelaar (16.00 uur)</p><p>Naast het programma zijn er verspreid over het terrein verschillende activiteiten voor kinderen. Zo zijn er onder meer springkussens, een trampoline en een sportarena van IPS. Ook kunnen bezoekers de brandweer ontmoeten en neemt een kunstenaar voor één dag plaats om samen met kinderen aan een groot kunstwerk te werken.</p><p>Meer informatie: zie de facebookpagina van Oranjevereniging Zeewolde.</p>
DESCRIPTION:<a href='/agenda/2026/4/27/koningsdag-2026-360445'>/agenda/2026/4/27/koningsdag-2026-360445</a> || <p>Diverse activiteiten in en om het centrum voor jong en oud.</p><p>Kleedjesmarkt en braderie (07.00 - 16.00 uur). <br />Rommelmarkt en kindervermaak Scouting Jan Wandelaar (09.00 - 16.00 uur)<br />Foodfestival met terras (09.00 - 17.00 uur)<br />FIFA-game-evenement (09.00 - 16.00 uur<br />Open podium (12.00 uur -16.00 uur)<br />Fietsenveiling Scouting Jan Wandelaar (13.00 uur)|<br />Loterij Scouting Jan Wandelaar (16.00 uur)</p><p>Naast het programma zijn er verspreid over het terrein verschillende activiteiten voor kinderen. Zo zijn er onder meer springkussens, een trampoline en een sportarena van IPS. Ook kunnen bezoekers de brandweer ontmoeten en neemt een kunstenaar voor één dag plaats om samen met kinderen aan een groot kunstwerk te werken.</p><p>Meer informatie: zie de facebookpagina van Oranjevereniging Zeewolde.</p>
LAST-MODIFIED:20260424T201556Z
LOCATION: Evenemententerrein | Horsterweg  Zeewolde
SEQUENCE:0
STATUS:CONFIRMED
SUMMARY:Koningsdag 2026
TRANSP:OPAQUE
END:VEVENT
END:VCALENDAR
