BEGIN:VCALENDAR
PRODID:-//PUBBLE//agenda//NL
VERSION:2.0
METHOD:PUBLISH
BEGIN:VEVENT
DTSTART:20260416T091106Z
DTEND:20260416T101106Z
DTSTAMP:20260424T201152Z
UID:9de5c8bf-9bfc-434b-8e76-34b06ed7bcdd
CREATED:20260424T201152Z
NAME:Promsconcert Koningsnacht zeewolde-actueel.nl
X-WR-CALNAME:Promsconcert Koningsnacht
X-ALT-DESC;FMTTYPE=text/html:<a href='/agenda/2026/4/26/promsconcert-koningsnacht-360464'>/agenda/2026/4/26/promsconcert-koningsnacht-360464</a> || <p>Door FlevoFanfare van Algemene Muziekvereniging Zeewolde (AMVZ).Thema filmmuziek. Locatie: The Lux. Aanvang: 20:00 uur. Kaarten  via <a href="https://www.amvz.net" title="https://www.amvz.net" target="_blank">www.amvz.net</a> en aan de deur. Hierbij geldt: vol=vol.</p>
DESCRIPTION:<a href='/agenda/2026/4/26/promsconcert-koningsnacht-360464'>/agenda/2026/4/26/promsconcert-koningsnacht-360464</a> || <p>Door FlevoFanfare van Algemene Muziekvereniging Zeewolde (AMVZ).Thema filmmuziek. Locatie: The Lux. Aanvang: 20:00 uur. Kaarten  via <a href="https://www.amvz.net" title="https://www.amvz.net" target="_blank">www.amvz.net</a> en aan de deur. Hierbij geldt: vol=vol.</p>
LAST-MODIFIED:20260424T201152Z
LOCATION: The Lux | Raadhuisplein 19-20 Zeewolde
SEQUENCE:0
STATUS:CONFIRMED
SUMMARY:Promsconcert Koningsnacht
TRANSP:OPAQUE
END:VEVENT
END:VCALENDAR
