BEGIN:VCALENDAR
PRODID:-//PUBBLE//agenda//NL
VERSION:2.0
METHOD:PUBLISH
BEGIN:VEVENT
DTSTART:20260422T113000Z
DTEND:20260422T133000Z
DTSTAMP:20260422T051713Z
UID:07e34fba-8d9e-4d45-b521-8663cc9d1d3d
CREATED:20260422T051713Z
NAME:SchrijfCafe zeewolde-actueel.nl
X-WR-CALNAME:SchrijfCafe
X-ALT-DESC;FMTTYPE=text/html:<a href='/agenda/2026/4/22/schrijfcafe-360916'>/agenda/2026/4/22/schrijfcafe-360916</a> || <p>Schrijfcursus. Ervaring is niet nodig.&nbsp;</p>
DESCRIPTION:<a href='/agenda/2026/4/22/schrijfcafe-360916'>/agenda/2026/4/22/schrijfcafe-360916</a> || <p>Schrijfcursus. Ervaring is niet nodig.&nbsp;</p>
LAST-MODIFIED:20260422T051713Z
LOCATION: FlevoMeer Bibliotheek Zeewolde | Kerkstraat 2 Zeewolde
SEQUENCE:0
STATUS:CONFIRMED
SUMMARY:SchrijfCafe
TRANSP:OPAQUE
END:VEVENT
END:VCALENDAR
