BEGIN:VCALENDAR
PRODID:-//PUBBLE//agenda//NL
VERSION:2.0
METHOD:PUBLISH
BEGIN:VEVENT
DTSTART:20260422T124849Z
DTEND:20260422T134849Z
DTSTAMP:20260423T164224Z
UID:9afda9d4-0b00-448b-bb4e-77507d9d16af
CREATED:20260423T164224Z
NAME:E-bike workshop voor senioren op Nationale Doortrapdag zeewolde-actueel.nl
X-WR-CALNAME:E-bike workshop voor senioren op Nationale Doortrapdag
X-ALT-DESC;FMTTYPE=text/html:<a href='/agenda/2026/4/23/e-bike-workshop-voor-senioren-op-nationale-doortrapdag-361010'>/agenda/2026/4/23/e-bike-workshop-voor-senioren-op-nationale-doortrapdag-361010</a> || <p>Gratis deelname voor inwoners van 60 jaar en ouder. Eigen e-bike en helm meenemen. Aanmelden via de <a href="https://www.zeewolde.nl/sport-en-cultuur-zeewolde/agenda-sport-en-bewegen/workshop-e-bike-uitgelicht" title="https://www.zeewolde.nl/sport-en-cultuur-zeewolde/agenda-sport-en-bewegen/workshop-e-bike-uitgelicht" target="_blank">website van Sport en Cultuur Zeewolde</a> of via de QR-code op de posters. Er zijn maximaal 25 plaatsen beschikbaar. Locatie: Hoceky Club Zeewolde, Horsterweg. Aanvang 09.30 uur. Inloop met koffie en thee vanaf 09.15 uur. </p>
DESCRIPTION:<a href='/agenda/2026/4/23/e-bike-workshop-voor-senioren-op-nationale-doortrapdag-361010'>/agenda/2026/4/23/e-bike-workshop-voor-senioren-op-nationale-doortrapdag-361010</a> || <p>Gratis deelname voor inwoners van 60 jaar en ouder. Eigen e-bike en helm meenemen. Aanmelden via de <a href="https://www.zeewolde.nl/sport-en-cultuur-zeewolde/agenda-sport-en-bewegen/workshop-e-bike-uitgelicht" title="https://www.zeewolde.nl/sport-en-cultuur-zeewolde/agenda-sport-en-bewegen/workshop-e-bike-uitgelicht" target="_blank">website van Sport en Cultuur Zeewolde</a> of via de QR-code op de posters. Er zijn maximaal 25 plaatsen beschikbaar. Locatie: Hoceky Club Zeewolde, Horsterweg. Aanvang 09.30 uur. Inloop met koffie en thee vanaf 09.15 uur. </p>
LAST-MODIFIED:20260423T164224Z
LOCATION: Hockey Club Zeewolde | Horsterweg  Zeewolde
SEQUENCE:0
STATUS:CONFIRMED
SUMMARY:E-bike workshop voor senioren op Nationale Doortrapdag
TRANSP:OPAQUE
END:VEVENT
END:VCALENDAR
