BEGIN:VCALENDAR
PRODID:-//PUBBLE//agenda//NL
VERSION:2.0
METHOD:PUBLISH
BEGIN:VEVENT
DTSTART:20260425T080000Z
DTEND:20260425T090000Z
DTSTAMP:20260424T201613Z
UID:0ef50744-6372-4391-a96b-9c5b976aa480
CREATED:20260424T201613Z
NAME:Lentefeest met lammetjes op zorgboerderij MMM zeewolde-actueel.nl
X-WR-CALNAME:Lentefeest met lammetjes op zorgboerderij MMM
X-ALT-DESC;FMTTYPE=text/html:<a href='/agenda/2026/4/25/lentefeest-met-lammetjes-op-zorgboerderij-mmm-361133'>/agenda/2026/4/25/lentefeest-met-lammetjes-op-zorgboerderij-mmm-361133</a> || <p>Lammetjes knuffelen en geitjes aaien. Activiteiten voor jong en oud. Springkussen, fotobooth,  live demonstratie schapenscheren, kraampjes en op het terras met poffertjes en suikerspin. Tijd: 10.00 - 16.00 uur. </p>
DESCRIPTION:<a href='/agenda/2026/4/25/lentefeest-met-lammetjes-op-zorgboerderij-mmm-361133'>/agenda/2026/4/25/lentefeest-met-lammetjes-op-zorgboerderij-mmm-361133</a> || <p>Lammetjes knuffelen en geitjes aaien. Activiteiten voor jong en oud. Springkussen, fotobooth,  live demonstratie schapenscheren, kraampjes en op het terras met poffertjes en suikerspin. Tijd: 10.00 - 16.00 uur. </p>
LAST-MODIFIED:20260424T201613Z
LOCATION: MMM boerderij |   Zeewolde
SEQUENCE:0
STATUS:CONFIRMED
SUMMARY:Lentefeest met lammetjes op zorgboerderij MMM
TRANSP:OPAQUE
END:VEVENT
END:VCALENDAR
